BEGIN:VCALENDAR
VERSION:2.0
PRODID:-//AAHII - ECPv5.14.1//NONSGML v1.0//EN
CALSCALE:GREGORIAN
METHOD:PUBLISH
X-WR-CALNAME:AAHII
X-ORIGINAL-URL:https://aahii.org
X-WR-CALDESC:Events for AAHII
REFRESH-INTERVAL;VALUE=DURATION:PT1H
X-Robots-Tag:noindex
X-PUBLISHED-TTL:PT1H
BEGIN:VTIMEZONE
TZID:Pacific/Honolulu
BEGIN:STANDARD
TZOFFSETFROM:-1000
TZOFFSETTO:-1000
TZNAME:HST
DTSTART:20310101T000000
END:STANDARD
END:VTIMEZONE
BEGIN:VEVENT
DTSTART;TZID=Pacific/Honolulu:20310719T080000
DTEND;TZID=Pacific/Honolulu:20310719T160000
DTSTAMP:20260425T090119
CREATED:20260324T091309Z
LAST-MODIFIED:20260324T091956Z
UID:6336-1942214400-1942243200@aahii.org
SUMMARY:Royal Order of Kamehameha [setup 8am]
DESCRIPTION:
URL:https://aahii.org/event/royal-order-of-kamehameha-setup-8am-6/
CATEGORIES:Holiday
END:VEVENT
END:VCALENDAR